BEGIN:VCALENDAR
VERSION:2.0
PRODID:-//www.schoetz.ch//NONSGML kigkonsult.se iCalcreator 2.22//
CALSCALE:GREGORIAN
METHOD:PUBLISH
X-WR-TIMEZONE','EUROPE/BERLIN:
BEGIN:VEVENT
UID:20260425T142022CEST-4703lvTuK9@www.schoetz.ch
DTSTAMP:20260425T122022Z
DESCRIPTION:Klicken Sie auf den folgenden Link\, um weitere Informationen z
 ur Veranstaltung zu erhalten:\nhttp://www.schoetz.ch/de/veranstaltungen/de
 tail/detail.php?i=3642
DTSTART:20260426T180000
DTEND:20260426T190000
LOCATION:Hofmattstrasse 13\, Schötz (neben Fellmann Kostümverleih)
SUMMARY:Evangelisch-freikirchlicher Gottesdienst
END:VEVENT
END:VCALENDAR
