BEGIN:VCALENDAR
VERSION:2.0
PRODID:-//www.schoetz.ch//NONSGML kigkonsult.se iCalcreator 2.22//
CALSCALE:GREGORIAN
METHOD:PUBLISH
X-WR-TIMEZONE','EUROPE/BERLIN:
BEGIN:VEVENT
UID:20260425T172642CEST-5202X4Up9t@www.schoetz.ch
DTSTAMP:20260425T152642Z
DESCRIPTION:Klicken Sie auf den folgenden Link\, um weitere Informationen z
 ur Veranstaltung zu erhalten:\nhttp://www.schoetz.ch/de/veranstaltungen/de
 tail/detail.php?i=4016
DTSTART:20261128T150000
DTEND:20261128T200000
LOCATION:
SUMMARY:Adventsmärt Ohmstal
END:VEVENT
END:VCALENDAR
