BEGIN:VCALENDAR
VERSION:2.0
PRODID:-//www.schoetz.ch//NONSGML kigkonsult.se iCalcreator 2.22//
CALSCALE:GREGORIAN
METHOD:PUBLISH
X-WR-TIMEZONE','EUROPE/BERLIN:
BEGIN:VEVENT
UID:20260420T023619CEST-23067vvwa3@www.schoetz.ch
DTSTAMP:20260420T003619Z
DESCRIPTION:Klicken Sie auf den folgenden Link\, um weitere Informationen z
 ur Veranstaltung zu erhalten:\nhttp://www.schoetz.ch/de/veranstaltungen/de
 tail/detail.php?i=4018
DTSTART:20260421T193000
DTEND:20260421T213000
LOCATION:Feuerwehrmagazin Schötz\, Chrüzmatte 1
SUMMARY:Vereinsübung
END:VEVENT
END:VCALENDAR
