BEGIN:VCALENDAR
VERSION:2.0
PRODID:-//www.schoetz.ch//NONSGML kigkonsult.se iCalcreator 2.22//
CALSCALE:GREGORIAN
METHOD:PUBLISH
X-WR-TIMEZONE','EUROPE/BERLIN:
BEGIN:VEVENT
UID:20260425T172643CEST-4244uZ11C1@www.schoetz.ch
DTSTAMP:20260425T152643Z
DESCRIPTION:Klicken Sie auf den folgenden Link\, um weitere Informationen z
 ur Veranstaltung zu erhalten:\nhttp://www.schoetz.ch/de/veranstaltungen/de
 tail/detail.php?i=4037
DTSTART:20260705T100000
DTEND:20260705T120000
LOCATION:Biffig 1\, 6247 Schötz
SUMMARY:Biffig
END:VEVENT
END:VCALENDAR
