BEGIN:VCALENDAR
VERSION:2.0
PRODID:-//www.schoetz.ch//NONSGML kigkonsult.se iCalcreator 2.22//
CALSCALE:GREGORIAN
METHOD:PUBLISH
X-WR-TIMEZONE','EUROPE/BERLIN:
BEGIN:VEVENT
UID:20260425T172343CEST-2800iD2Wrv@www.schoetz.ch
DTSTAMP:20260425T152343Z
DESCRIPTION:Klicken Sie auf den folgenden Link\, um weitere Informationen z
 ur Veranstaltung zu erhalten:\nhttp://www.schoetz.ch/de/veranstaltungen/de
 tail/detail.php?i=4128
DTSTART:20260429T120000
DTEND:20260429T140000
LOCATION:Pfarreiheim Schötz
SUMMARY:ZämeZmettag
END:VEVENT
END:VCALENDAR
