BEGIN:VCALENDAR
VERSION:2.0
PRODID:-//www.schoetz.ch//NONSGML kigkonsult.se iCalcreator 2.22//
CALSCALE:GREGORIAN
METHOD:PUBLISH
X-WR-TIMEZONE','EUROPE/BERLIN:
BEGIN:VEVENT
UID:20260422T142309CEST-5218FXUlUR@www.schoetz.ch
DTSTAMP:20260422T122309Z
DESCRIPTION:Klicken Sie auf den folgenden Link\, um weitere Informationen z
 ur Veranstaltung zu erhalten:\nhttp://www.schoetz.ch/de/veranstaltungen/de
 tail/detail.php?i=4129
DTSTART:20260422T120000
DTEND:20260422T140000
LOCATION:Pfarreiheim Schötz
SUMMARY:ZämeZmettag
END:VEVENT
END:VCALENDAR
