BEGIN:VCALENDAR
VERSION:2.0
PRODID:-//www.schoetz.ch//NONSGML kigkonsult.se iCalcreator 2.22//
CALSCALE:GREGORIAN
METHOD:PUBLISH
X-WR-TIMEZONE','EUROPE/BERLIN:
BEGIN:VEVENT
UID:20260425T172339CEST-9790iABUNl@www.schoetz.ch
DTSTAMP:20260425T152339Z
DESCRIPTION:Klicken Sie auf den folgenden Link\, um weitere Informationen z
 ur Veranstaltung zu erhalten:\nhttp://www.schoetz.ch/de/veranstaltungen/de
 tail/detail.php?i=4215
DTSTART:20260917T181500
DTEND:20260917T191500
LOCATION:Biffig AG Schötz
SUMMARY:Abendkonzert Biffig AG
END:VEVENT
END:VCALENDAR
