BEGIN:VCALENDAR
VERSION:2.0
PRODID:-//www.schoetz.ch//NONSGML kigkonsult.se iCalcreator 2.22//
CALSCALE:GREGORIAN
METHOD:PUBLISH
X-WR-TIMEZONE','EUROPE/BERLIN:
BEGIN:VEVENT
UID:20260425T172342CEST-9769W4D7ve@www.schoetz.ch
DTSTAMP:20260425T152342Z
DESCRIPTION:Klicken Sie auf den folgenden Link\, um weitere Informationen z
 ur Veranstaltung zu erhalten:\nhttp://www.schoetz.ch/de/veranstaltungen/de
 tail/detail.php?i=4264
DTSTART:20260509T000000
DTEND:20260509T235900
LOCATION:
SUMMARY:Wiedereröffnung Ronmühle
END:VEVENT
END:VCALENDAR
