BEGIN:VCALENDAR
VERSION:2.0
PRODID:-//www.schoetz.ch//NONSGML kigkonsult.se iCalcreator 2.22//
CALSCALE:GREGORIAN
METHOD:PUBLISH
X-WR-TIMEZONE','EUROPE/BERLIN:
BEGIN:VEVENT
UID:20260425T172342CEST-4758xm982g@www.schoetz.ch
DTSTAMP:20260425T152342Z
DESCRIPTION:Klicken Sie auf den folgenden Link\, um weitere Informationen z
 ur Veranstaltung zu erhalten:\nhttp://www.schoetz.ch/de/veranstaltungen/de
 tail/detail.php?i=4311
DTSTART:20260429T000000
DTEND:20260429T235900
LOCATION:Schötz
SUMMARY:Delegiertenversammlung 2026
END:VEVENT
END:VCALENDAR
