BEGIN:VCALENDAR
VERSION:2.0
PRODID:-//www.schoetz.ch//NONSGML kigkonsult.se iCalcreator 2.22//
CALSCALE:GREGORIAN
METHOD:PUBLISH
X-WR-TIMEZONE','EUROPE/BERLIN:
BEGIN:VEVENT
UID:20260425T172341CEST-9756n0DkUg@www.schoetz.ch
DTSTAMP:20260425T152341Z
DESCRIPTION:Klicken Sie auf den folgenden Link\, um weitere Informationen z
 ur Veranstaltung zu erhalten:\nhttp://www.schoetz.ch/de/veranstaltungen/de
 tail/detail.php?i=4393
DTSTART:20260509T200000
DTEND:20260509T220000
LOCATION:Museumskeller Ronmühle\,  6247 Schötz
SUMMARY:Träff Schötz: «Nüni-Schtei» – die Ronmühle wird neu bespielt
END:VEVENT
END:VCALENDAR
