BEGIN:VCALENDAR
VERSION:2.0
PRODID:-//www.schoetz.ch//NONSGML kigkonsult.se iCalcreator 2.22//
CALSCALE:GREGORIAN
METHOD:PUBLISH
X-WR-TIMEZONE','EUROPE/BERLIN:
BEGIN:VEVENT
UID:20260425T025925CEST-6210pKG7dd@www.schoetz.ch
DTSTAMP:20260425T005925Z
DESCRIPTION:Klicken Sie auf den folgenden Link\, um weitere Informationen z
 ur Veranstaltung zu erhalten:\nhttp://www.schoetz.ch/de/veranstaltungen/de
 tail/detail.php?i=3903
DTSTART:20260627T200000
DTEND:20260627T210000
LOCATION:Willisau\, Festhalle
SUMMARY:Jahreskonzert der JM und Startup Band Willisau\; Lukas Erni\, Matth
 ias Koch
END:VEVENT
END:VCALENDAR
