BEGIN:VCALENDAR
VERSION:2.0
PRODID:-//www.schoetz.ch//NONSGML kigkonsult.se iCalcreator 2.22//
CALSCALE:GREGORIAN
METHOD:PUBLISH
X-WR-TIMEZONE','EUROPE/BERLIN:
BEGIN:VEVENT
UID:20260425T025925CEST-5014xUrugZ@www.schoetz.ch
DTSTAMP:20260425T005925Z
DESCRIPTION:Klicken Sie auf den folgenden Link\, um weitere Informationen z
 ur Veranstaltung zu erhalten:\nhttp://www.schoetz.ch/de/veranstaltungen/de
 tail/detail.php?i=3908
DTSTART:20260612T170000
DTEND:20260612T180000
LOCATION:Ettiswil\, Schulanlage
SUMMARY:Strassenmusikfestival 'Play together' Best-of der Musikschule
END:VEVENT
END:VCALENDAR
