BEGIN:VCALENDAR
VERSION:2.0
PRODID:-//www.schoetz.ch//NONSGML kigkonsult.se iCalcreator 2.22//
CALSCALE:GREGORIAN
METHOD:PUBLISH
X-WR-TIMEZONE','EUROPE/BERLIN:
BEGIN:VEVENT
UID:20260425T030032CEST-14372EIwVG@www.schoetz.ch
DTSTAMP:20260425T010032Z
DESCRIPTION:Klicken Sie auf den folgenden Link\, um weitere Informationen z
 ur Veranstaltung zu erhalten:\nhttp://www.schoetz.ch/de/veranstaltungen/de
 tail/detail.php?i=3917
DTSTART:20260509T103000
DTEND:20260509T130000
LOCATION:Ettiswil\, Büelacherhalle
SUMMARY:Grundschulkonzert\; M. Frei\, S. Hidber\, N. Lischer\, A. Müller\, 
 M. Stockmann
END:VEVENT
END:VCALENDAR
