BEGIN:VCALENDAR
VERSION:2.0
PRODID:-//www.schoetz.ch//NONSGML kigkonsult.se iCalcreator 2.22//
CALSCALE:GREGORIAN
METHOD:PUBLISH
X-WR-TIMEZONE','EUROPE/BERLIN:
BEGIN:VEVENT
UID:20260425T030032CEST-0935ZxgV4S@www.schoetz.ch
DTSTAMP:20260425T010032Z
DESCRIPTION:Klicken Sie auf den folgenden Link\, um weitere Informationen z
 ur Veranstaltung zu erhalten:\nhttp://www.schoetz.ch/de/veranstaltungen/de
 tail/detail.php?i=3918
DTSTART:20260506T190000
DTEND:20260506T200000
LOCATION:Willisau\, Kanti Aula
SUMMARY:Schülerkonzert\; Flavia Frey\, Myrtha Frey
END:VEVENT
END:VCALENDAR
