BEGIN:VCALENDAR
VERSION:2.0
PRODID:-//www.schoetz.ch//NONSGML kigkonsult.se iCalcreator 2.22//
CALSCALE:GREGORIAN
METHOD:PUBLISH
X-WR-TIMEZONE','EUROPE/BERLIN:
BEGIN:VEVENT
UID:20260425T025936CEST-0007lua97g@www.schoetz.ch
DTSTAMP:20260425T005935Z
DESCRIPTION:Klicken Sie auf den folgenden Link\, um weitere Informationen z
 ur Veranstaltung zu erhalten:\nhttp://www.schoetz.ch/de/veranstaltungen/de
 tail/detail.php?i=3920
DTSTART:20260502T140000
DTEND:20260502T150000
LOCATION:Willisau\, Festhalle
SUMMARY:4. 'Twenty Drums'\; Thomas Reist
END:VEVENT
END:VCALENDAR
