BEGIN:VCALENDAR
VERSION:2.0
PRODID:-//www.schoetz.ch//NONSGML kigkonsult.se iCalcreator 2.22//
CALSCALE:GREGORIAN
METHOD:PUBLISH
X-WR-TIMEZONE','EUROPE/BERLIN:
BEGIN:VEVENT
UID:20260425T172507CEST-3164uLmseH@www.schoetz.ch
DTSTAMP:20260425T152507Z
DESCRIPTION:Klicken Sie auf den folgenden Link\, um weitere Informationen z
 ur Veranstaltung zu erhalten:\nhttp://www.schoetz.ch/de/veranstaltungen/de
 tail/detail.php?i=3984
DTSTART:20260519T193000
DTEND:20260602T203000
LOCATION:
SUMMARY:Atemschutz Leistungstest
END:VEVENT
END:VCALENDAR
