BEGIN:VCALENDAR
VERSION:2.0
PRODID:-//www.schoetz.ch//NONSGML kigkonsult.se iCalcreator 2.22//
CALSCALE:GREGORIAN
METHOD:PUBLISH
X-WR-TIMEZONE','EUROPE/BERLIN:
BEGIN:VEVENT
UID:20260425T025935CEST-8650z4HhF9@www.schoetz.ch
DTSTAMP:20260425T005935Z
DESCRIPTION:Klicken Sie auf den folgenden Link\, um weitere Informationen z
 ur Veranstaltung zu erhalten:\nhttp://www.schoetz.ch/de/veranstaltungen/de
 tail/detail.php?i=3986
DTSTART:20260428T193000
DTEND:20260428T220000
LOCATION:
SUMMARY:Atemschutz
END:VEVENT
END:VCALENDAR
