BEGIN:VCALENDAR
VERSION:2.0
PRODID:-//www.schoetz.ch//NONSGML kigkonsult.se iCalcreator 2.22//
CALSCALE:GREGORIAN
METHOD:PUBLISH
X-WR-TIMEZONE','EUROPE/BERLIN:
BEGIN:VEVENT
UID:20260425T172517CEST-4613UgFjI9@www.schoetz.ch
DTSTAMP:20260425T152517Z
DESCRIPTION:Klicken Sie auf den folgenden Link\, um weitere Informationen z
 ur Veranstaltung zu erhalten:\nhttp://www.schoetz.ch/de/veranstaltungen/de
 tail/detail.php?i=3990
DTSTART:20261014T193000
DTEND:20261014T203000
LOCATION:
SUMMARY:Motorspritze
END:VEVENT
END:VCALENDAR
