BEGIN:VCALENDAR
VERSION:2.0
PRODID:-//www.schoetz.ch//NONSGML kigkonsult.se iCalcreator 2.22//
CALSCALE:GREGORIAN
METHOD:PUBLISH
X-WR-TIMEZONE','EUROPE/BERLIN:
BEGIN:VEVENT
UID:20260425T035656CEST-8484A99zuN@www.schoetz.ch
DTSTAMP:20260425T015656Z
DESCRIPTION:Klicken Sie auf den folgenden Link\, um weitere Informationen z
 ur Veranstaltung zu erhalten:\nhttp://www.schoetz.ch/de/veranstaltungen/de
 tail/detail.php?i=3997
DTSTART:20260828T193000
DTEND:20260828T203000
LOCATION:
SUMMARY:Zugsübung
END:VEVENT
END:VCALENDAR
