BEGIN:VCALENDAR
VERSION:2.0
PRODID:-//www.schoetz.ch//NONSGML kigkonsult.se iCalcreator 2.22//
CALSCALE:GREGORIAN
METHOD:PUBLISH
X-WR-TIMEZONE','EUROPE/BERLIN:
BEGIN:VEVENT
UID:20260425T172518CEST-9070sxReuU@www.schoetz.ch
DTSTAMP:20260425T152518Z
DESCRIPTION:Klicken Sie auf den folgenden Link\, um weitere Informationen z
 ur Veranstaltung zu erhalten:\nhttp://www.schoetz.ch/de/veranstaltungen/de
 tail/detail.php?i=3998
DTSTART:20260827T193000
DTEND:20260827T203000
LOCATION:
SUMMARY:Zugsübung
END:VEVENT
END:VCALENDAR
