BEGIN:VCALENDAR
VERSION:2.0
PRODID:-//www.schoetz.ch//NONSGML kigkonsult.se iCalcreator 2.22//
CALSCALE:GREGORIAN
METHOD:PUBLISH
X-WR-TIMEZONE','EUROPE/BERLIN:
BEGIN:VEVENT
UID:20260425T183529CEST-41889hsf6U@www.schoetz.ch
DTSTAMP:20260425T163529Z
DESCRIPTION:Klicken Sie auf den folgenden Link\, um weitere Informationen z
 ur Veranstaltung zu erhalten:\nhttp://www.schoetz.ch/de/veranstaltungen/de
 tail/detail.php?i=4000
DTSTART:20260622T193000
DTEND:20260622T203000
LOCATION:
SUMMARY:Zugsübung
END:VEVENT
END:VCALENDAR
