BEGIN:VCALENDAR
VERSION:2.0
PRODID:-//www.schoetz.ch//NONSGML kigkonsult.se iCalcreator 2.22//
CALSCALE:GREGORIAN
METHOD:PUBLISH
X-WR-TIMEZONE','EUROPE/BERLIN:
BEGIN:VEVENT
UID:20260425T172509CEST-00772FXUWW@www.schoetz.ch
DTSTAMP:20260425T152509Z
DESCRIPTION:Klicken Sie auf den folgenden Link\, um weitere Informationen z
 ur Veranstaltung zu erhalten:\nhttp://www.schoetz.ch/de/veranstaltungen/de
 tail/detail.php?i=4005
DTSTART:20261103T193000
DTEND:20261103T220000
LOCATION:
SUMMARY:Atemschutz Neueingeteilte
END:VEVENT
END:VCALENDAR
