BEGIN:VCALENDAR
VERSION:2.0
PRODID:-//www.schoetz.ch//NONSGML kigkonsult.se iCalcreator 2.22//
CALSCALE:GREGORIAN
METHOD:PUBLISH
X-WR-TIMEZONE','EUROPE/BERLIN:
BEGIN:VEVENT
UID:20260425T035657CEST-4515GNzMVG@www.schoetz.ch
DTSTAMP:20260425T015657Z
DESCRIPTION:Klicken Sie auf den folgenden Link\, um weitere Informationen z
 ur Veranstaltung zu erhalten:\nhttp://www.schoetz.ch/de/veranstaltungen/de
 tail/detail.php?i=4007
DTSTART:20261013T190000
DTEND:20261013T200000
LOCATION:
SUMMARY:Verkehrsübung
END:VEVENT
END:VCALENDAR
