BEGIN:VCALENDAR
VERSION:2.0
PRODID:-//www.schoetz.ch//NONSGML kigkonsult.se iCalcreator 2.22//
CALSCALE:GREGORIAN
METHOD:PUBLISH
X-WR-TIMEZONE','EUROPE/BERLIN:
BEGIN:VEVENT
UID:20260425T183527CEST-2087Vum6zG@www.schoetz.ch
DTSTAMP:20260425T163527Z
DESCRIPTION:Klicken Sie auf den folgenden Link\, um weitere Informationen z
 ur Veranstaltung zu erhalten:\nhttp://www.schoetz.ch/de/veranstaltungen/de
 tail/detail.php?i=4008
DTSTART:20260908T190000
DTEND:20260908T213000
LOCATION:
SUMMARY:Verkehrsübung
END:VEVENT
END:VCALENDAR
