BEGIN:VCALENDAR
VERSION:2.0
PRODID:-//www.schoetz.ch//NONSGML kigkonsult.se iCalcreator 2.22//
CALSCALE:GREGORIAN
METHOD:PUBLISH
X-WR-TIMEZONE','EUROPE/BERLIN:
BEGIN:VEVENT
UID:20260425T025902CEST-5645BsMZht@www.schoetz.ch
DTSTAMP:20260425T005902Z
DESCRIPTION:Klicken Sie auf den folgenden Link\, um weitere Informationen z
 ur Veranstaltung zu erhalten:\nhttp://www.schoetz.ch/de/veranstaltungen/de
 tail/detail.php?i=4014
DTSTART:20260518T193000
DTEND:20260518T223000
LOCATION:Zentrum Biffig  AG in Schötz 
SUMMARY:Einladung zur Kirchgemeindeversammlung
END:VEVENT
END:VCALENDAR
