BEGIN:VCALENDAR
VERSION:2.0
PRODID:-//www.schoetz.ch//NONSGML kigkonsult.se iCalcreator 2.22//
CALSCALE:GREGORIAN
METHOD:PUBLISH
X-WR-TIMEZONE','EUROPE/BERLIN:
BEGIN:VEVENT
UID:20260425T030032CEST-0316Kp5VxP@www.schoetz.ch
DTSTAMP:20260425T010032Z
DESCRIPTION:Klicken Sie auf den folgenden Link\, um weitere Informationen z
 ur Veranstaltung zu erhalten:\nhttp://www.schoetz.ch/de/veranstaltungen/de
 tail/detail.php?i=4025
DTSTART:20261201T193000
DTEND:20261201T213000
LOCATION:Restaurant Woods Schötz
SUMMARY:Chlaushock und Kegeln
END:VEVENT
END:VCALENDAR
