BEGIN:VCALENDAR
VERSION:2.0
PRODID:-//www.schoetz.ch//NONSGML kigkonsult.se iCalcreator 2.22//
CALSCALE:GREGORIAN
METHOD:PUBLISH
X-WR-TIMEZONE','EUROPE/BERLIN:
BEGIN:VEVENT
UID:20260425T025908CEST-6231TOJXwN@www.schoetz.ch
DTSTAMP:20260425T005908Z
DESCRIPTION:Klicken Sie auf den folgenden Link\, um weitere Informationen z
 ur Veranstaltung zu erhalten:\nhttp://www.schoetz.ch/de/veranstaltungen/de
 tail/detail.php?i=4030
DTSTART:20260820T173000
DTEND:20260820T210000
LOCATION:Pfarreiheim Schötz\, Dorfchärn 3
SUMMARY:Blutspenden
END:VEVENT
END:VCALENDAR
