BEGIN:VCALENDAR
VERSION:2.0
PRODID:-//www.schoetz.ch//NONSGML kigkonsult.se iCalcreator 2.22//
CALSCALE:GREGORIAN
METHOD:PUBLISH
X-WR-TIMEZONE','EUROPE/BERLIN:
BEGIN:VEVENT
UID:20260425T183647CEST-8622l6lAiC@www.schoetz.ch
DTSTAMP:20260425T163647Z
DESCRIPTION:Klicken Sie auf den folgenden Link\, um weitere Informationen z
 ur Veranstaltung zu erhalten:\nhttp://www.schoetz.ch/de/veranstaltungen/de
 tail/detail.php?i=4038
DTSTART:20261031T200000
DTEND:20261031T235900
LOCATION:St. Mauritz\, Schötz
SUMMARY:Jahreskonzert JK Bärgglöggli Schötz
END:VEVENT
END:VCALENDAR
