BEGIN:VCALENDAR
VERSION:2.0
PRODID:-//www.schoetz.ch//NONSGML kigkonsult.se iCalcreator 2.22//
CALSCALE:GREGORIAN
METHOD:PUBLISH
X-WR-TIMEZONE','EUROPE/BERLIN:
BEGIN:VEVENT
UID:20260421T105210CEST-6419JKXSkT@www.schoetz.ch
DTSTAMP:20260421T085210Z
DESCRIPTION:Klicken Sie auf den folgenden Link\, um weitere Informationen z
 ur Veranstaltung zu erhalten:\nhttp://www.schoetz.ch/de/veranstaltungen/de
 tail/detail.php?i=4369
DTSTART:20260312T200000
DTEND:20260312T213000
LOCATION:Gasthof St. Mauritz\, Schötz
SUMMARY:Heil und Heilung im Gasthof St. Mauritz
END:VEVENT
END:VCALENDAR
