BEGIN:VCALENDAR
VERSION:2.0
PRODID:-//www.schoetz.ch//NONSGML kigkonsult.se iCalcreator 2.22//
CALSCALE:GREGORIAN
METHOD:PUBLISH
X-WR-TIMEZONE','EUROPE/BERLIN:
BEGIN:VEVENT
UID:20260425T025838CEST-7953paSx8C@www.schoetz.ch
DTSTAMP:20260425T005838Z
DESCRIPTION:Klicken Sie auf den folgenden Link\, um weitere Informationen z
 ur Veranstaltung zu erhalten:\nhttp://www.schoetz.ch/de/veranstaltungen/de
 tail/detail.php?i=4376
DTSTART:20260509T200000
DTEND:20260509T230000
LOCATION:
SUMMARY:«Nüni-Schtei» – Kleinkunstabend beim Träff Schötz
END:VEVENT
END:VCALENDAR
